BEGIN:VCALENDAR
VERSION:2.0
METHOD:PUBLISH
PRODID::-//Obvius//NONSGML ICal//DA
BEGIN:VEVENT
UID:718615@rootsofeurope.ku.dk
DESCRIPTION:Tredages seminar om de keltiske sprog og deres historie med ov
 erordnet introduktion til udvalgte keltiske sprog.\n\nhttps://rootsofeurop
 e.ku.dk/kalender/arkiv_2012/celtic_spring/
SUMMARY:Celtic Spring in Copenhagen
LOCATION:27.0.09
ORGANIZER:Roots of Europe
DTSTART:20120522T220000Z
DTSTAMP:20120522T220000Z
DTEND:20120524T220000Z
END:VEVENT
END:VCALENDAR
